BEGIN:VCALENDAR
VERSION:2.0
PRODID:-//https://www.uc-baltic.de///NONSGML kigkonsult.se iCalcreator 2.10.15//
METHOD:PUBLISH
BEGIN:VEVENT
UID:20260419T192637CEST-0166lVE9t4@https://www.uc-baltic.de/
DTSTAMP:20260419T172637Z
DESCRIPTION: https://www.uc-baltic.de/veranstaltungen/kalender/ereignis/169
 9-flossenschwimmen-di-19-20-uhr
DTSTART:20251209T180000Z
DTEND:20251209T190000Z
LOCATION:Campusbad (Thomas-Fincke-Straße 19\, 24943 Flensburg)
SUMMARY:Flossenschwimmen\, Di 19 - 20 Uhr
URL:https://www.uc-baltic.de/veranstaltungen/kalender/ereignis/1699-flossen
 schwimmen-di-19-20-uhr
END:VEVENT
END:VCALENDAR
