BEGIN:VCALENDAR
VERSION:2.0
PRODID:-//https://www.uc-baltic.de///NONSGML kigkonsult.se iCalcreator 2.10.15//
METHOD:PUBLISH
BEGIN:VEVENT
UID:20260419T192610CEST-4033t49u2X@https://www.uc-baltic.de/
DTSTAMP:20260419T172610Z
DESCRIPTION: https://www.uc-baltic.de/veranstaltungen/kalender/ereignis/167
 8-flossenschwimmen-mo-19-20-uhr
DTSTART:20251208T180000Z
DTEND:20251208T190000Z
LOCATION:Campusbad (Thomas-Fincke-Straße 19\, 24943 Flensburg)
SUMMARY:Flossenschwimmen\, Mo 19 - 20 Uhr
URL:https://www.uc-baltic.de/veranstaltungen/kalender/ereignis/1678-flossen
 schwimmen-mo-19-20-uhr
END:VEVENT
END:VCALENDAR
