BEGIN:VCALENDAR
VERSION:2.0
PRODID:-//https://www.uc-baltic.de///NONSGML kigkonsult.se iCalcreator 2.10.15//
METHOD:PUBLISH
BEGIN:VEVENT
UID:20260419T192542CEST-4980auvtEB@https://www.uc-baltic.de/
DTSTAMP:20260419T172542Z
DESCRIPTION: https://www.uc-baltic.de/veranstaltungen/kalender/ereignis/167
 7-flossenschwimmen-mo-19-20-uhr
DTSTART:20251201T180000Z
DTEND:20251201T190000Z
LOCATION:Campusbad (Thomas-Fincke-Straße 19\, 24943 Flensburg)
SUMMARY:Flossenschwimmen\, Mo 19 - 20 Uhr
URL:https://www.uc-baltic.de/veranstaltungen/kalender/ereignis/1677-flossen
 schwimmen-mo-19-20-uhr
END:VEVENT
END:VCALENDAR
