BEGIN:VCALENDAR
VERSION:2.0
PRODID:-//https://www.uc-baltic.de///NONSGML kigkonsult.se iCalcreator 2.10.15//
METHOD:PUBLISH
BEGIN:VEVENT
UID:20260419T225537CEST-6208ju1KZV@https://www.uc-baltic.de/
DTSTAMP:20260419T205537Z
DESCRIPTION: https://www.uc-baltic.de/veranstaltungen/kalender/ereignis/166
 8-flossenschwimmen-di-19-00-20-00-uhr-bahn-1-flacher-bereich
DTSTART:20251021T170000Z
DTEND:20251021T180000Z
LOCATION:Campusbad (Thomas-Fincke-Straße 19\, 24943 Flensburg)
SUMMARY:Flossenschwimmen\, Di 19:00 - 20:00 Uhr\, Bahn 1 flacher Bereich
URL:https://www.uc-baltic.de/veranstaltungen/kalender/ereignis/1668-flossen
 schwimmen-di-19-00-20-00-uhr-bahn-1-flacher-bereich
END:VEVENT
END:VCALENDAR
