BEGIN:VCALENDAR
VERSION:2.0
PRODID:-//https://www.uc-baltic.de///NONSGML kigkonsult.se iCalcreator 2.10.15//
METHOD:PUBLISH
BEGIN:VEVENT
UID:20260419T213212CEST-4349cbWbjO@https://www.uc-baltic.de/
DTSTAMP:20260419T193212Z
DESCRIPTION: https://www.uc-baltic.de/veranstaltungen/kalender/ereignis/166
 5-flossenschwimmen-mo-20-00-21-00-uhr-bahn-3
DTSTART:20251027T190000Z
DTEND:20251027T200000Z
LOCATION:Campusbad (Thomas-Fincke-Straße 19\, 24943 Flensburg)
SUMMARY:Flossenschwimmen\, Mo 20:00 - 21:00 Uhr\; Bahn 3
URL:https://www.uc-baltic.de/veranstaltungen/kalender/ereignis/1665-flossen
 schwimmen-mo-20-00-21-00-uhr-bahn-3
END:VEVENT
END:VCALENDAR
