BEGIN:VCALENDAR
VERSION:2.0
PRODID:-//https://www.uc-baltic.de///NONSGML kigkonsult.se iCalcreator 2.10.15//
METHOD:PUBLISH
BEGIN:VEVENT
UID:20260419T225346CEST-2243nDlVCg@https://www.uc-baltic.de/
DTSTAMP:20260419T205346Z
DESCRIPTION: https://www.uc-baltic.de/veranstaltungen/kalender/ereignis/166
 4-flossenschwimmen-mo-20-00-21-00-uhr-bahn-3
DTSTART:20251020T180000Z
DTEND:20251020T190000Z
LOCATION:Campusbad (Thomas-Fincke-Straße 19\, 24943 Flensburg)
SUMMARY:Flossenschwimmen\, Mo 20:00 - 21:00 Uhr\; Bahn 3
URL:https://www.uc-baltic.de/veranstaltungen/kalender/ereignis/1664-flossen
 schwimmen-mo-20-00-21-00-uhr-bahn-3
END:VEVENT
END:VCALENDAR
