BEGIN:VCALENDAR
VERSION:2.0
PRODID:-//https://www.uc-baltic.de///NONSGML kigkonsult.se iCalcreator 2.10.15//
METHOD:PUBLISH
BEGIN:VEVENT
UID:20260420T003535CEST-8869DuRklR@https://www.uc-baltic.de/
DTSTAMP:20260419T223535Z
DESCRIPTION: https://www.uc-baltic.de/veranstaltungen/kalender/ereignis/164
 9-flossenschwimmen-fr-20-00-21-00-uhr
DTSTART:20250926T180000Z
DTEND:20250926T190000Z
LOCATION:Campusbad (Thomas-Fincke-Straße 19\, 24943 Flensburg)
SUMMARY:Flossenschwimmen\, Fr 20::00 - 21:00 Uhr
URL:https://www.uc-baltic.de/veranstaltungen/kalender/ereignis/1649-flossen
 schwimmen-fr-20-00-21-00-uhr
END:VEVENT
END:VCALENDAR
