BEGIN:VCALENDAR
VERSION:2.0
PRODID:-//https://www.uc-baltic.de///NONSGML kigkonsult.se iCalcreator 2.10.15//
METHOD:PUBLISH
BEGIN:VEVENT
UID:20260420T003450CEST-0190gzOIv3@https://www.uc-baltic.de/
DTSTAMP:20260419T223450Z
DESCRIPTION: https://www.uc-baltic.de/veranstaltungen/kalender/ereignis/164
 3-flossenschwimmen-do-16-00-17-00-unr
DTSTART:20250925T140000Z
DTEND:20250925T150000Z
LOCATION:Campusbad (Thomas-Fincke-Straße 19\, 24943 Flensburg)
SUMMARY:Flossenschwimmen\, Do 16:00 - 17:00 Unr
URL:https://www.uc-baltic.de/veranstaltungen/kalender/ereignis/1643-flossen
 schwimmen-do-16-00-17-00-unr
END:VEVENT
END:VCALENDAR
