BEGIN:VCALENDAR
VERSION:2.0
PRODID:-//https://www.uc-baltic.de///NONSGML kigkonsult.se iCalcreator 2.10.15//
METHOD:PUBLISH
BEGIN:VEVENT
UID:20260419T225303CEST-30247UPpLZ@https://www.uc-baltic.de/
DTSTAMP:20260419T205303Z
DESCRIPTION: https://www.uc-baltic.de/veranstaltungen/kalender/ereignis/163
 9-flossenschwimmen-di-19-00-20-00-uhr
DTSTART:20251007T170000Z
DTEND:20251007T180000Z
LOCATION:Campusbad (Thomas-Fincke-Straße 19\, 24943 Flensburg)
SUMMARY:Flossenschwimmen\, Di 19:00 - 20:00  Uhr
URL:https://www.uc-baltic.de/veranstaltungen/kalender/ereignis/1639-flossen
 schwimmen-di-19-00-20-00-uhr
END:VEVENT
END:VCALENDAR
