BEGIN:VCALENDAR
VERSION:2.0
PRODID:-//https://www.uc-baltic.de///NONSGML kigkonsult.se iCalcreator 2.10.15//
METHOD:PUBLISH
BEGIN:VEVENT
UID:20260420T003535CEST-5510kRBeLv@https://www.uc-baltic.de/
DTSTAMP:20260419T223535Z
DESCRIPTION: https://www.uc-baltic.de/veranstaltungen/kalender/ereignis/163
 5-flossenschwimmen-di-19-00-20-00-uhr
DTSTART:20250909T170000Z
DTEND:20250909T180000Z
LOCATION:Campusbad (Thomas-Fincke-Straße 19\, 24943 Flensburg)
SUMMARY:Flossenschwimmen\, Di 19:00 - 20:00  Uhr
URL:https://www.uc-baltic.de/veranstaltungen/kalender/ereignis/1635-flossen
 schwimmen-di-19-00-20-00-uhr
END:VEVENT
END:VCALENDAR
