BEGIN:VCALENDAR
VERSION:2.0
PRODID:-//https://www.uc-baltic.de///NONSGML kigkonsult.se iCalcreator 2.10.15//
METHOD:PUBLISH
BEGIN:VEVENT
UID:20260420T003443CEST-6623FPJ8rP@https://www.uc-baltic.de/
DTSTAMP:20260419T223443Z
DESCRIPTION: https://www.uc-baltic.de/veranstaltungen/kalender/ereignis/163
 3-uw-rugby-mo-20-00-21-00-uhr
DTSTART:20251013T180000Z
DTEND:20251013T190000Z
LOCATION:Campusbad (Thomas-Fincke-Straße 19\, 24943 Flensburg)
SUMMARY:UW-Rugby\, Mo  20:00 - 21:00 Uhr
URL:https://www.uc-baltic.de/veranstaltungen/kalender/ereignis/1633-uw-rugb
 y-mo-20-00-21-00-uhr
END:VEVENT
END:VCALENDAR
