BEGIN:VCALENDAR
VERSION:2.0
PRODID:-//https://www.uc-baltic.de///NONSGML kigkonsult.se iCalcreator 2.10.15//
METHOD:PUBLISH
BEGIN:VEVENT
UID:20260419T225140CEST-9745r5GDZ5@https://www.uc-baltic.de/
DTSTAMP:20260419T205140Z
DESCRIPTION: https://www.uc-baltic.de/veranstaltungen/kalender/ereignis/163
 2-uw-rugby-mo-20-00-21-00-uhr
DTSTART:20251006T180000Z
DTEND:20251006T190000Z
LOCATION:Campusbad (Thomas-Fincke-Straße 19\, 24943 Flensburg)
SUMMARY:UW-Rugby\, Mo  20:00 - 21:00 Uhr
URL:https://www.uc-baltic.de/veranstaltungen/kalender/ereignis/1632-uw-rugb
 y-mo-20-00-21-00-uhr
END:VEVENT
END:VCALENDAR
