BEGIN:VCALENDAR
VERSION:2.0
PRODID:-//https://www.uc-baltic.de///NONSGML kigkonsult.se iCalcreator 2.10.15//
METHOD:PUBLISH
BEGIN:VEVENT
UID:20260420T022534CEST-6169rJ3gCk@https://www.uc-baltic.de/
DTSTAMP:20260420T002534Z
DESCRIPTION: https://www.uc-baltic.de/veranstaltungen/kalender/ereignis/160
 0-flossenschwimmen-mo-19-00-20-00-uhr-bahn-1-2-und-3-im-tiefen-bereich
DTSTART:20250804T170000Z
DTEND:20250804T180000Z
LOCATION:Campusbad (Thomas-Fincke-Straße 19\, 24943 Flensburg)
SUMMARY:Flossenschwimmen\, Mo 19:00 - 20:00 Uhr\; Bahn 1\, 2 und 3 im tiefe
 n Bereich
URL:https://www.uc-baltic.de/veranstaltungen/kalender/ereignis/1600-flossen
 schwimmen-mo-19-00-20-00-uhr-bahn-1-2-und-3-im-tiefen-bereich
END:VEVENT
END:VCALENDAR
