BEGIN:VCALENDAR
VERSION:2.0
PRODID:-//https://www.uc-baltic.de///NONSGML kigkonsult.se iCalcreator 2.10.15//
METHOD:PUBLISH
BEGIN:VEVENT
UID:20260420T040140CEST-5999XvV1gv@https://www.uc-baltic.de/
DTSTAMP:20260420T020140Z
DESCRIPTION: https://www.uc-baltic.de/veranstaltungen/kalender/ereignis/159
 1-clubraum-privat
DTSTART:20250723T053000Z
DTEND:20250723T143000Z
LOCATION:Unterwasserclub Baltic e.V.  (Fahrensodde 20\, 24944 Flensburg)
SUMMARY:Clubraum Privat 
URL:https://www.uc-baltic.de/veranstaltungen/kalender/ereignis/1591-clubrau
 m-privat
END:VEVENT
END:VCALENDAR
