BEGIN:VCALENDAR
VERSION:2.0
PRODID:-//https://www.uc-baltic.de///NONSGML kigkonsult.se iCalcreator 2.10.15//
METHOD:PUBLISH
BEGIN:VEVENT
UID:20260420T072023CEST-90962Bnm5v@https://www.uc-baltic.de/
DTSTAMP:20260420T052023Z
DESCRIPTION: https://www.uc-baltic.de/veranstaltungen/kalender/ereignis/146
 0-flossenschwimmen-do-16-00-17-00-uhr
DTSTART:20250508T140000Z
DTEND:20250508T150000Z
LOCATION:Campusbad (Thomas-Fincke-Straße 19\, 24943 Flensburg)
SUMMARY:Flossenschwimmen\, Do 16:00 - 17:00 Uhr
URL:https://www.uc-baltic.de/veranstaltungen/kalender/ereignis/1460-flossen
 schwimmen-do-16-00-17-00-uhr
END:VEVENT
END:VCALENDAR
