BEGIN:VCALENDAR
VERSION:2.0
PRODID:-//https://www.uc-baltic.de///NONSGML kigkonsult.se iCalcreator 2.10.15//
METHOD:PUBLISH
BEGIN:VEVENT
UID:20260419T180122CEST-78927E1rbx@https://www.uc-baltic.de/
DTSTAMP:20260419T160122Z
DESCRIPTION:Im Rahmen der Tauchausbildung im UC Baltic bieten wir einen Auf
 baukurs (AK) GDL Navigation Diver / AK Orientierung an. In dem zweitägigen
  Kurs beschäftigen wir uns mit natürlichen und technischen Hilfsmitteln zu
 r Orientierung beim Tauchen. Ihr sollt in die Lage versetzt werden\, währe
 nd des Tauchganges Tauchkurs und Standort zu bestimmen und sicher zum Ausg
 angspunkt des Tauchganges zurückzufinden. Der AK Orientierung ist Vorausse
 tzung für die Brevetierung zum DTSA**.Anmeldeschluss: 15.04.2025 https://w
 ww.uc-baltic.de/veranstaltungen/kalender/ereignis/1401-gdl-navigation-dive
 r-ak-orientierung
DTSTART:20250319T153100Z
DTEND:20250415T215700Z
LOCATION:Unterwasserclub Baltic e.V.  (Fahrensodde 20\, 24944 Flensburg)
SUMMARY:GDL Navigation Diver / AK Orientierung
URL:https://www.uc-baltic.de/veranstaltungen/kalender/ereignis/1401-gdl-nav
 igation-diver-ak-orientierung
END:VEVENT
END:VCALENDAR
