BEGIN:VCALENDAR
VERSION:2.0
PRODID:-//https://www.uc-baltic.de///NONSGML kigkonsult.se iCalcreator 2.10.15//
METHOD:PUBLISH
BEGIN:VEVENT
UID:20260420T085623CEST-3166Ml2gUg@https://www.uc-baltic.de/
DTSTAMP:20260420T065623Z
DESCRIPTION:Treffen und Einlass: 19:45 Uhr https://www.uc-baltic.de/veranst
 altungen/kalender/ereignis/1369-flossenschwimmen-mo-20-00-21-00-uhr
DTSTART:20250407T180000Z
DTEND:20250407T190000Z
LOCATION:Campusbad (Thomas-Fincke-Straße 19\, 24943 Flensburg)
SUMMARY:Flossenschwimmen\, Mo 20:00 - 21:00 Uhr
URL:https://www.uc-baltic.de/veranstaltungen/kalender/ereignis/1369-flossen
 schwimmen-mo-20-00-21-00-uhr
END:VEVENT
END:VCALENDAR
