BEGIN:VCALENDAR
VERSION:2.0
PRODID:-//https://www.uc-baltic.de///NONSGML kigkonsult.se iCalcreator 2.10.15//
METHOD:PUBLISH
BEGIN:VEVENT
UID:20260420T085622CEST-7273OfOUwb@https://www.uc-baltic.de/
DTSTAMP:20260420T065622Z
DESCRIPTION:Treffen und Einlass: 18:45 Uhr https://www.uc-baltic.de/veranst
 altungen/kalender/ereignis/1356-flossenschwimmen-mo-19-00-20-00-uhr
DTSTART:20250407T170000Z
DTEND:20250407T190000Z
LOCATION:Campusbad (Thomas-Fincke-Straße 19\, 24943 Flensburg)
SUMMARY:Flossenschwimmen\, Mo 19:00 - 20:00 Uhr
URL:https://www.uc-baltic.de/veranstaltungen/kalender/ereignis/1356-flossen
 schwimmen-mo-19-00-20-00-uhr
END:VEVENT
END:VCALENDAR
