BEGIN:VCALENDAR
VERSION:2.0
PRODID:-//https://www.uc-baltic.de///NONSGML kigkonsult.se iCalcreator 2.10.15//
METHOD:PUBLISH
BEGIN:VEVENT
UID:20260422T110516CEST-7973UFJprS@https://www.uc-baltic.de/
DTSTAMP:20260422T090516Z
DESCRIPTION:Treffen und Einlass: 18:45 Uhr https://www.uc-baltic.de/veranst
 altungen/kalender/ereignis/1344-flossenschwimmen-mo-19-00-20-00-uhr
DTSTART:20250113T180000Z
DTEND:20250113T200000Z
LOCATION:Campusbad (Thomas-Fincke-Straße 19\, 24943 Flensburg)
SUMMARY:Flossenschwimmen\, Mo 19:00 - 20:00 Uhr
URL:https://www.uc-baltic.de/veranstaltungen/kalender/ereignis/1344-flossen
 schwimmen-mo-19-00-20-00-uhr
END:VEVENT
END:VCALENDAR
