BEGIN:VCALENDAR
VERSION:2.0
PRODID:-//https://www.uc-baltic.de///NONSGML kigkonsult.se iCalcreator 2.10.15//
METHOD:PUBLISH
BEGIN:VEVENT
UID:20260420T085613CEST-3720UHHfdv@https://www.uc-baltic.de/
DTSTAMP:20260420T065613Z
DESCRIPTION:Treffen und Einlass: 19:45 Uhr https://www.uc-baltic.de/veranst
 altungen/kalender/ereignis/1343-flossenschwimmen-fr-20-00-21-00-uhr
DTSTART:20250404T180000Z
DTEND:20250404T190000Z
LOCATION:Campusbad (Thomas-Fincke-Straße 19\, 24943 Flensburg)
SUMMARY:Flossenschwimmen\, Fr 20:00 - 21:00 Uhr
URL:https://www.uc-baltic.de/veranstaltungen/kalender/ereignis/1343-flossen
 schwimmen-fr-20-00-21-00-uhr
END:VEVENT
END:VCALENDAR
