BEGIN:VCALENDAR
VERSION:2.0
PRODID:-//https://www.uc-baltic.de///NONSGML kigkonsult.se iCalcreator 2.10.15//
METHOD:PUBLISH
BEGIN:VEVENT
UID:20260422T110542CEST-5878Nuk98U@https://www.uc-baltic.de/
DTSTAMP:20260422T090542Z
DESCRIPTION:Treffen und Einlass: 15:45 Uhr https://www.uc-baltic.de/veranst
 altungen/kalender/ereignis/1326-flossenschwimmen-do-16-00-17-00-uhr
DTSTART:20250313T150000Z
DTEND:20250313T160000Z
LOCATION:Campusbad (Thomas-Fincke-Straße 19\, 24943 Flensburg)
SUMMARY:Flossenschwimmen\, Do 16:00 - 17:00 Uhr
URL:https://www.uc-baltic.de/veranstaltungen/kalender/ereignis/1326-flossen
 schwimmen-do-16-00-17-00-uhr
END:VEVENT
END:VCALENDAR
