BEGIN:VCALENDAR
VERSION:2.0
PRODID:-//https://www.uc-baltic.de///NONSGML kigkonsult.se iCalcreator 2.10.15//
METHOD:PUBLISH
BEGIN:VEVENT
UID:20260419T223735CEST-4775vDGlJU@https://www.uc-baltic.de/
DTSTAMP:20260419T203735Z
DESCRIPTION: https://www.uc-baltic.de/veranstaltungen/kalender/ereignis/131
 0-clubabend
DTSTART:20251003T170000Z
DTEND:20251003T215900Z
LOCATION:Unterwasserclub Baltic e.V.  (Fahrensodde 20\, 24944 Flensburg)
SUMMARY:Clubabend
URL:https://www.uc-baltic.de/veranstaltungen/kalender/ereignis/1310-clubabe
 nd
END:VEVENT
END:VCALENDAR
