BEGIN:VCALENDAR
VERSION:2.0
PRODID:-//https://www.uc-baltic.de///NONSGML kigkonsult.se iCalcreator 2.10.15//
METHOD:PUBLISH
BEGIN:VEVENT
UID:20260419T223753CEST-0245nkeEfl@https://www.uc-baltic.de/
DTSTAMP:20260419T203753Z
DESCRIPTION: https://www.uc-baltic.de/veranstaltungen/kalender/ereignis/129
 7-clubabend
DTSTART:20250404T170000Z
DTEND:20250404T215900Z
LOCATION:Unterwasserclub Baltic e.V.  (Fahrensodde 20\, 24944 Flensburg)
SUMMARY:Clubabend
URL:https://www.uc-baltic.de/veranstaltungen/kalender/ereignis/1297-clubabe
 nd
END:VEVENT
END:VCALENDAR
