BEGIN:VCALENDAR
VERSION:2.0
PRODID:-//https://www.uc-baltic.de///NONSGML kigkonsult.se iCalcreator 2.10.15//
METHOD:PUBLISH
BEGIN:VEVENT
UID:20260419T223719CEST-2165RU6ewM@https://www.uc-baltic.de/
DTSTAMP:20260419T203719Z
DESCRIPTION: https://www.uc-baltic.de/veranstaltungen/kalender/ereignis/129
 6-clubabend
DTSTART:20250321T180000Z
DTEND:20250321T225900Z
LOCATION:Unterwasserclub Baltic e.V.  (Fahrensodde 20\, 24944 Flensburg)
SUMMARY:Clubabend
URL:https://www.uc-baltic.de/veranstaltungen/kalender/ereignis/1296-clubabe
 nd
END:VEVENT
END:VCALENDAR
