BEGIN:VCALENDAR
VERSION:2.0
PRODID:-//https://www.uc-baltic.de///NONSGML kigkonsult.se iCalcreator 2.10.15//
METHOD:PUBLISH
BEGIN:VEVENT
UID:20260419T180202CEST-7155efgtsp@https://www.uc-baltic.de/
DTSTAMP:20260419T160202Z
DESCRIPTION: https://www.uc-baltic.de/veranstaltungen/kalender/ereignis/128
 8-dtsa-gdl-sports-diver
DTSTART:20241126T172500Z
DTEND:20241210T225700Z
LOCATION:Unterwasserclub Baltic e.V.  (Fahrensodde 20\, 24944 Flensburg)
SUMMARY:DTSA** / GDL** Sports Diver
URL:https://www.uc-baltic.de/veranstaltungen/kalender/ereignis/1288-dtsa-gd
 l-sports-diver
END:VEVENT
END:VCALENDAR
