BEGIN:VCALENDAR
VERSION:2.0
PRODID:-//https://www.uc-baltic.de///NONSGML kigkonsult.se iCalcreator 2.10.15//
METHOD:PUBLISH
BEGIN:VEVENT
UID:20260419T180405CEST-3475hSacZV@https://www.uc-baltic.de/
DTSTAMP:20260419T160405Z
DESCRIPTION: https://www.uc-baltic.de/veranstaltungen/kalender/ereignis/128
 0-abfrage-interesse-tauchausbildung-dtsa-dtsa-trainer-c-tauchlehrer-oder-s
 pezialkurse
DTSTART:20241101T000000Z
DTEND:20241115T224900Z
LOCATION:Unterwasserclub Baltic e.V.  (Fahrensodde 20\, 24944 Flensburg)
SUMMARY:Abfrage Interesse Tauchausbildung DTSA**\, DTSA***\, Trainer C\, Ta
 uchlehrer oder Spezialkurse
URL:https://www.uc-baltic.de/veranstaltungen/kalender/ereignis/1280-abfrage
 -interesse-tauchausbildung-dtsa-dtsa-trainer-c-tauchlehrer-oder-spezialkur
 se
END:VEVENT
END:VCALENDAR
