BEGIN:VCALENDAR
VERSION:2.0
PRODID:-//https://www.uc-baltic.de///NONSGML kigkonsult.se iCalcreator 2.10.15//
METHOD:PUBLISH
BEGIN:VEVENT
UID:20260419T175800CEST-21352U8EWG@https://www.uc-baltic.de/
DTSTAMP:20260419T155800Z
DESCRIPTION: https://www.uc-baltic.de/veranstaltungen/kalender/ereignis/127
 6-dtsa-pruefung
DTSTART:20241222T090000Z
DTEND:20241222T110000Z
LOCATION:Unterwasserclub Baltic e.V.  (Fahrensodde 20\, 24944 Flensburg)
SUMMARY:DTSA* Prüfung
URL:https://www.uc-baltic.de/veranstaltungen/kalender/ereignis/1276-dtsa-pr
 uefung
END:VEVENT
END:VCALENDAR
