BEGIN:VCALENDAR
VERSION:2.0
PRODID:-//https://www.uc-baltic.de///NONSGML kigkonsult.se iCalcreator 2.10.15//
METHOD:PUBLISH
BEGIN:VEVENT
UID:20260419T175802CEST-8366gZAj7x@https://www.uc-baltic.de/
DTSTAMP:20260419T155802Z
DESCRIPTION: https://www.uc-baltic.de/veranstaltungen/kalender/ereignis/127
 5-gdl-basic-nitrox-diver-dtsa-nitrox
DTSTART:20241230T140000Z
DTEND:20241230T173000Z
LOCATION:Unterwasserclub Baltic e.V.  (Fahrensodde 20\, 24944 Flensburg)
SUMMARY:GDL Basic Nitrox Diver / DTSA Nitrox*
URL:https://www.uc-baltic.de/veranstaltungen/kalender/ereignis/1275-gdl-bas
 ic-nitrox-diver-dtsa-nitrox
END:VEVENT
END:VCALENDAR
