BEGIN:VCALENDAR
VERSION:2.0
PRODID:-//https://www.uc-baltic.de///NONSGML kigkonsult.se iCalcreator 2.10.15//
METHOD:PUBLISH
BEGIN:VEVENT
UID:20260419T175801CEST-2227KWJ3ee@https://www.uc-baltic.de/
DTSTAMP:20260419T155801Z
DESCRIPTION: https://www.uc-baltic.de/veranstaltungen/kalender/ereignis/127
 4-ak-hlw
DTSTART:20241221T123000Z
DTEND:20241221T163000Z
LOCATION:Unterwasserclub Baltic e.V.  (Fahrensodde 20\, 24944 Flensburg)
SUMMARY:AK HLW
URL:https://www.uc-baltic.de/veranstaltungen/kalender/ereignis/1274-ak-hlw
END:VEVENT
END:VCALENDAR
