BEGIN:VCALENDAR
VERSION:2.0
PRODID:-//https://www.uc-baltic.de///NONSGML kigkonsult.se iCalcreator 2.10.15//
METHOD:PUBLISH
BEGIN:VEVENT
UID:20260422T181748CEST-5196xewv4T@https://www.uc-baltic.de/
DTSTAMP:20260422T161748Z
DESCRIPTION: https://www.uc-baltic.de/veranstaltungen/kalender/ereignis/126
 5-flossenschwimmen-fr-20-21-uhr
DTSTART:20241122T190000Z
DTEND:20241122T200000Z
LOCATION:Campusbad (Thomas-Fincke-Straße 19\, 24943 Flensburg)
SUMMARY:Flossenschwimmen\, Fr 20 - 21 Uhr
URL:https://www.uc-baltic.de/veranstaltungen/kalender/ereignis/1265-flossen
 schwimmen-fr-20-21-uhr
END:VEVENT
END:VCALENDAR
