BEGIN:VCALENDAR
VERSION:2.0
PRODID:-//https://www.uc-baltic.de///NONSGML kigkonsult.se iCalcreator 2.10.15//
METHOD:PUBLISH
BEGIN:VEVENT
UID:20260422T203621CEST-74804Hcnww@https://www.uc-baltic.de/
DTSTAMP:20260422T183621Z
DESCRIPTION: https://www.uc-baltic.de/veranstaltungen/kalender/ereignis/126
 1-flossenschwimmen-do-16-17-uhr
DTSTART:20241212T150000Z
DTEND:20241212T160000Z
LOCATION:Campusbad (Thomas-Fincke-Straße 19\, 24943 Flensburg)
SUMMARY:Flossenschwimmen\, Do 16 - 17 Uhr
URL:https://www.uc-baltic.de/veranstaltungen/kalender/ereignis/1261-flossen
 schwimmen-do-16-17-uhr
END:VEVENT
END:VCALENDAR
