BEGIN:VCALENDAR
VERSION:2.0
PRODID:-//https://www.uc-baltic.de///NONSGML kigkonsult.se iCalcreator 2.10.15//
METHOD:PUBLISH
BEGIN:VEVENT
UID:20260422T160652CEST-4924tRvvU8@https://www.uc-baltic.de/
DTSTAMP:20260422T140652Z
DESCRIPTION: https://www.uc-baltic.de/veranstaltungen/kalender/ereignis/125
 9-flossenschwimmen-do-16-17-uhr
DTSTART:20241128T150000Z
DTEND:20241128T160000Z
LOCATION:Campusbad (Thomas-Fincke-Straße 19\, 24943 Flensburg)
SUMMARY:Flossenschwimmen\, Do 16 - 17 Uhr
URL:https://www.uc-baltic.de/veranstaltungen/kalender/ereignis/1259-flossen
 schwimmen-do-16-17-uhr
END:VEVENT
END:VCALENDAR
