BEGIN:VCALENDAR
VERSION:2.0
PRODID:-//https://www.uc-baltic.de///NONSGML kigkonsult.se iCalcreator 2.10.15//
METHOD:PUBLISH
BEGIN:VEVENT
UID:20260422T160718CEST-6247vI2unb@https://www.uc-baltic.de/
DTSTAMP:20260422T140718Z
DESCRIPTION: https://www.uc-baltic.de/veranstaltungen/kalender/ereignis/125
 1-flossenschwimmen-di-19-20-uhr
DTSTART:20241126T180000Z
DTEND:20241126T190000Z
LOCATION:Campusbad (Thomas-Fincke-Straße 19\, 24943 Flensburg)
SUMMARY:Flossenschwimmen\, Di 19 - 20 Uhr
URL:https://www.uc-baltic.de/veranstaltungen/kalender/ereignis/1251-flossen
 schwimmen-di-19-20-uhr
END:VEVENT
END:VCALENDAR
