BEGIN:VCALENDAR
VERSION:2.0
PRODID:-//https://www.uc-baltic.de///NONSGML kigkonsult.se iCalcreator 2.10.15//
METHOD:PUBLISH
BEGIN:VEVENT
UID:20260422T181753CEST-43184Xfm1s@https://www.uc-baltic.de/
DTSTAMP:20260422T161753Z
DESCRIPTION: https://www.uc-baltic.de/veranstaltungen/kalender/ereignis/124
 7-flossenschwimmen-di-19-20-uhr
DTSTART:20241029T180000Z
DTEND:20241029T190000Z
LOCATION:Campusbad (Thomas-Fincke-Straße 19\, 24943 Flensburg)
SUMMARY:Flossenschwimmen\, Di 19 - 20 Uhr
URL:https://www.uc-baltic.de/veranstaltungen/kalender/ereignis/1247-flossen
 schwimmen-di-19-20-uhr
END:VEVENT
END:VCALENDAR
