BEGIN:VCALENDAR
VERSION:2.0
PRODID:-//https://www.uc-baltic.de///NONSGML kigkonsult.se iCalcreator 2.10.15//
METHOD:PUBLISH
BEGIN:VEVENT
UID:20260422T160512CEST-7665vSiTAK@https://www.uc-baltic.de/
DTSTAMP:20260422T140512Z
DESCRIPTION: https://www.uc-baltic.de/veranstaltungen/kalender/ereignis/123
 5-flossenschwimmen-mo-20-21-uhr
DTSTART:20241209T190000Z
DTEND:20241209T200000Z
LOCATION:Campusbad (Thomas-Fincke-Straße 19\, 24943 Flensburg)
SUMMARY:Flossenschwimmen\, Mo 20 - 21 Uhr
URL:https://www.uc-baltic.de/veranstaltungen/kalender/ereignis/1235-flossen
 schwimmen-mo-20-21-uhr
END:VEVENT
END:VCALENDAR
