BEGIN:VCALENDAR
VERSION:2.0
PRODID:-//https://www.uc-baltic.de///NONSGML kigkonsult.se iCalcreator 2.10.15//
METHOD:PUBLISH
BEGIN:VEVENT
UID:20260422T181726CEST-1439lcCwXV@https://www.uc-baltic.de/
DTSTAMP:20260422T161726Z
DESCRIPTION: https://www.uc-baltic.de/veranstaltungen/kalender/ereignis/123
 1-flossenschwimmen-mo-20-21-uhr
DTSTART:20241111T190000Z
DTEND:20241111T200000Z
LOCATION:Campusbad (Thomas-Fincke-Straße 19\, 24943 Flensburg)
SUMMARY:Flossenschwimmen\, Mo 20 - 21 Uhr
URL:https://www.uc-baltic.de/veranstaltungen/kalender/ereignis/1231-flossen
 schwimmen-mo-20-21-uhr
END:VEVENT
END:VCALENDAR
