BEGIN:VCALENDAR
VERSION:2.0
PRODID:-//https://www.uc-baltic.de///NONSGML kigkonsult.se iCalcreator 2.10.15//
METHOD:PUBLISH
BEGIN:VEVENT
UID:20260422T224229CEST-9296pPjh2m@https://www.uc-baltic.de/
DTSTAMP:20260422T204229Z
DESCRIPTION:Treffen und Einlass 19:45 Uhr https://www.uc-baltic.de/veransta
 ltungen/kalender/ereignis/1204-flossenschwimmen-fr-20-21-uhr
DTSTART:20240920T180000Z
DTEND:20240920T190000Z
LOCATION:Campusbad (Thomas-Fincke-Straße 19\, 24943 Flensburg)
SUMMARY:Flossenschwimmen\, Fr 20-21 Uhr
URL:https://www.uc-baltic.de/veranstaltungen/kalender/ereignis/1204-flossen
 schwimmen-fr-20-21-uhr
END:VEVENT
END:VCALENDAR
