BEGIN:VCALENDAR
VERSION:2.0
PRODID:-//https://www.uc-baltic.de///NONSGML kigkonsult.se iCalcreator 2.10.15//
METHOD:PUBLISH
BEGIN:VEVENT
UID:20260422T203227CEST-2884rvJkFK@https://www.uc-baltic.de/
DTSTAMP:20260422T183227Z
DESCRIPTION:Treffen und Einlass 19:45 Uhr https://www.uc-baltic.de/veransta
 ltungen/kalender/ereignis/1180-flossenschwimmen-mo-20-21-uhr
DTSTART:20241007T180000Z
DTEND:20241007T190000Z
LOCATION:Campusbad (Thomas-Fincke-Straße 19\, 24943 Flensburg)
SUMMARY:Flossenschwimmen\, Mo 20-21 Uhr
URL:https://www.uc-baltic.de/veranstaltungen/kalender/ereignis/1180-flossen
 schwimmen-mo-20-21-uhr
END:VEVENT
END:VCALENDAR
