BEGIN:VCALENDAR
VERSION:2.0
PRODID:-//https://www.uc-baltic.de///NONSGML kigkonsult.se iCalcreator 2.10.15//
METHOD:PUBLISH
BEGIN:VEVENT
UID:20260422T203234CEST-5479UlPBfE@https://www.uc-baltic.de/
DTSTAMP:20260422T183234Z
DESCRIPTION:Treffen und Einlass 18:45 Uhr https://www.uc-baltic.de/veransta
 ltungen/kalender/ereignis/1173-flossenschwimmen-mo-19-20-uhr
DTSTART:20241007T170000Z
DTEND:20241007T180000Z
LOCATION:Campusbad (Thomas-Fincke-Straße 19\, 24943 Flensburg)
SUMMARY:Flossenschwimmen\, Mo 19-20 Uhr
URL:https://www.uc-baltic.de/veranstaltungen/kalender/ereignis/1173-flossen
 schwimmen-mo-19-20-uhr
END:VEVENT
END:VCALENDAR
