BEGIN:VCALENDAR
VERSION:2.0
PRODID:-//https://www.uc-baltic.de///NONSGML kigkonsult.se iCalcreator 2.10.15//
METHOD:PUBLISH
BEGIN:VEVENT
UID:20260422T222338CEST-9841u1hw86@https://www.uc-baltic.de/
DTSTAMP:20260422T202338Z
DESCRIPTION:Treffen und Einlass 18:45 Uhr https://www.uc-baltic.de/veransta
 ltungen/kalender/ereignis/1169-flossenschwimmen-mo-19-20-uhr
DTSTART:20240909T170000Z
DTEND:20240909T180000Z
LOCATION:Campusbad (Thomas-Fincke-Straße 19\, 24943 Flensburg)
SUMMARY:Flossenschwimmen\, Mo 19-20 Uhr
URL:https://www.uc-baltic.de/veranstaltungen/kalender/ereignis/1169-flossen
 schwimmen-mo-19-20-uhr
END:VEVENT
END:VCALENDAR
