BEGIN:VCALENDAR
VERSION:2.0
PRODID:-//https://www.uc-baltic.de///NONSGML kigkonsult.se iCalcreator 2.10.15//
METHOD:PUBLISH
BEGIN:VEVENT
UID:20260419T180119CEST-7304zhbMwP@https://www.uc-baltic.de/
DTSTAMP:20260419T160119Z
DESCRIPTION: https://www.uc-baltic.de/veranstaltungen/kalender/ereignis/116
 7-gdl-night-diver-ak-nachttauchen
DTSTART:20241102T130000Z
DTEND:20241102T200000Z
LOCATION:Unterwasserclub Baltic e.V.  (Fahrensodde 20\, 24944 Flensburg)
SUMMARY:GDL Night Diver / AK Nachttauchen
URL:https://www.uc-baltic.de/veranstaltungen/kalender/ereignis/1167-gdl-nig
 ht-diver-ak-nachttauchen
END:VEVENT
END:VCALENDAR
