BEGIN:VCALENDAR
VERSION:2.0
PRODID:-//https://www.uc-baltic.de///NONSGML kigkonsult.se iCalcreator 2.10.15//
METHOD:PUBLISH
BEGIN:VEVENT
UID:20260423T001322CEST-0961BMcgz1@https://www.uc-baltic.de/
DTSTAMP:20260422T221322Z
DESCRIPTION: https://www.uc-baltic.de/veranstaltungen/kalender/ereignis/114
 3-flossenschwimmen-di-19-20-uhr-bahn-8-tiefer-bereich
DTSTART:20240820T170000Z
DTEND:20240820T180000Z
LOCATION:Campusbad (Thomas-Fincke-Straße 19\, 24943 Flensburg)
SUMMARY:Flossenschwimmen\, Di 19 - 20 Uhr\, Bahn 8\, tiefer Bereich
URL:https://www.uc-baltic.de/veranstaltungen/kalender/ereignis/1143-flossen
 schwimmen-di-19-20-uhr-bahn-8-tiefer-bereich
END:VEVENT
END:VCALENDAR
