BEGIN:VCALENDAR
VERSION:2.0
PRODID:-//https://www.uc-baltic.de///NONSGML kigkonsult.se iCalcreator 2.10.15//
METHOD:PUBLISH
BEGIN:VEVENT
UID:20260419T150040CEST-7407v8zHfO@https://www.uc-baltic.de/
DTSTAMP:20260419T130040Z
DESCRIPTION: https://www.uc-baltic.de/veranstaltungen/kalender/ereignis/107
 8-flossenschwimmen-do-16-17-uhr
DTSTART:20240523T140000Z
DTEND:20240523T150000Z
LOCATION:Campusbad (Thomas-Fincke-Straße 19\, 24943 Flensburg)
SUMMARY:Flossenschwimmen\, Do 16 - 17 Uhr
URL:https://www.uc-baltic.de/veranstaltungen/kalender/ereignis/1078-flossen
 schwimmen-do-16-17-uhr
END:VEVENT
END:VCALENDAR
