BEGIN:VCALENDAR
VERSION:2.0
PRODID:-//https://www.uc-baltic.de///NONSGML kigkonsult.se iCalcreator 2.10.15//
METHOD:PUBLISH
BEGIN:VEVENT
UID:20260423T015158CEST-5485DK75Fb@https://www.uc-baltic.de/
DTSTAMP:20260422T235158Z
DESCRIPTION: https://www.uc-baltic.de/veranstaltungen/kalender/ereignis/107
 2-uw-rugby-mo-20-21-uhr
DTSTART:20240708T180000Z
DTEND:20240708T190000Z
LOCATION:Campusbad (Thomas-Fincke-Straße 19\, 24943 Flensburg)
SUMMARY:UW-Rugby\, Mo 20 - 21 Uhr
URL:https://www.uc-baltic.de/veranstaltungen/kalender/ereignis/1072-uw-rugb
 y-mo-20-21-uhr
END:VEVENT
END:VCALENDAR
