BEGIN:VCALENDAR
VERSION:2.0
PRODID:-//https://www.uc-baltic.de///NONSGML kigkonsult.se iCalcreator 2.10.15//
METHOD:PUBLISH
BEGIN:VEVENT
UID:20260423T054121CEST-43033m2Env@https://www.uc-baltic.de/
DTSTAMP:20260423T034121Z
DESCRIPTION: https://www.uc-baltic.de/veranstaltungen/kalender/ereignis/103
 9-flossenschwimmen-mo-19-20-uhr
DTSTART:20240429T170000Z
DTEND:20240429T180000Z
LOCATION:Campusbad (Thomas-Fincke-Straße 19\, 24943 Flensburg)
SUMMARY:Flossenschwimmen\, Mo 19  - 20 Uhr
URL:https://www.uc-baltic.de/veranstaltungen/kalender/ereignis/1039-flossen
 schwimmen-mo-19-20-uhr
END:VEVENT
END:VCALENDAR
