BEGIN:VCALENDAR
VERSION:2.0
PRODID:-//https://www.uc-baltic.de///NONSGML kigkonsult.se iCalcreator 2.10.15//
METHOD:PUBLISH
BEGIN:VEVENT
UID:20260422T155203CEST-8917dfar1J@https://www.uc-baltic.de/
DTSTAMP:20260422T135203Z
DESCRIPTION: https://www.uc-baltic.de/veranstaltungen/kalender/ereignis/103
 6-clubabend
DTSTART:20241227T180000Z
DTEND:20241227T225900Z
LOCATION:Clubheim UC Baltic ()
SUMMARY:Clubabend
URL:https://www.uc-baltic.de/veranstaltungen/kalender/ereignis/1036-clubabe
 nd
END:VEVENT
END:VCALENDAR
