BEGIN:VCALENDAR
VERSION:2.0
PRODID:-//https://www.uc-baltic.de///NONSGML kigkonsult.se iCalcreator 2.10.15//
METHOD:PUBLISH
BEGIN:VEVENT
UID:20260422T163216CEST-7388zfCxUP@https://www.uc-baltic.de/
DTSTAMP:20260422T143216Z
DESCRIPTION: https://www.uc-baltic.de/veranstaltungen/kalender/ereignis/103
 2-clubabend
DTSTART:20241129T180000Z
DTEND:20241129T225900Z
LOCATION:Clubheim UC Baltic ()
SUMMARY:Clubabend
URL:https://www.uc-baltic.de/veranstaltungen/kalender/ereignis/1032-clubabe
 nd
END:VEVENT
END:VCALENDAR
