BEGIN:VCALENDAR
VERSION:2.0
PRODID:-//https://www.uc-baltic.de///NONSGML kigkonsult.se iCalcreator 2.10.15//
METHOD:PUBLISH
BEGIN:VEVENT
UID:20260422T183810CEST-9183iEXBVR@https://www.uc-baltic.de/
DTSTAMP:20260422T163810Z
DESCRIPTION: https://www.uc-baltic.de/veranstaltungen/kalender/ereignis/103
 0-clubabend
DTSTART:20241115T180000Z
DTEND:20241115T225900Z
LOCATION:Clubheim UC Baltic ()
SUMMARY:Clubabend
URL:https://www.uc-baltic.de/veranstaltungen/kalender/ereignis/1030-clubabe
 nd
END:VEVENT
END:VCALENDAR
