BEGIN:VCALENDAR
VERSION:2.0
PRODID:-//https://www.uc-baltic.de///NONSGML kigkonsult.se iCalcreator 2.10.15//
METHOD:PUBLISH
BEGIN:VEVENT
UID:20260422T181131CEST-8557iI5izv@https://www.uc-baltic.de/
DTSTAMP:20260422T161131Z
DESCRIPTION: https://www.uc-baltic.de/veranstaltungen/kalender/ereignis/102
 8-clubabend
DTSTART:20241101T180000Z
DTEND:20241101T225900Z
LOCATION:Clubheim UC Baltic ()
SUMMARY:Clubabend
URL:https://www.uc-baltic.de/veranstaltungen/kalender/ereignis/1028-clubabe
 nd
END:VEVENT
END:VCALENDAR
