BEGIN:VCALENDAR
VERSION:2.0
PRODID:-//https://www.uc-baltic.de///NONSGML kigkonsult.se iCalcreator 2.10.15//
METHOD:PUBLISH
BEGIN:VEVENT
UID:20260422T220542CEST-11171NbuUP@https://www.uc-baltic.de/
DTSTAMP:20260422T200542Z
DESCRIPTION: https://www.uc-baltic.de/veranstaltungen/kalender/ereignis/102
 2-clubabend
DTSTART:20240920T170000Z
DTEND:20240920T215900Z
LOCATION:Clubheim UC Baltic ()
SUMMARY:Clubabend
URL:https://www.uc-baltic.de/veranstaltungen/kalender/ereignis/1022-clubabe
 nd
END:VEVENT
END:VCALENDAR
